BEGIN:VCALENDAR
VERSION:2.0
BEGIN:VEVENT
URL:https://staygold.oztix.com.au/outlet/event/b219f04e-07f8-4e13-b1ee-f7b6c0bfc604
DTSTART:20260517T090000Z
DTEND:20260517T090000Z
SUMMARY:Static Dress Debut Melbourne Headline Show
DESCRIPTION:Event details: https://staygold.oztix.com.au/outlet/event/b219f04e-07f8-4e13-b1ee-f7b6c0bfc604
LOCATION:Stay Gold  (BRUNSWICK, VIC)
END:VEVENT
END:VCALENDAR